BEGIN:VCALENDAR
VERSION:2.0
PRODID:-//Town of Trafalgar, Indiana - ECPv6.15.20//NONSGML v1.0//EN
CALSCALE:GREGORIAN
METHOD:PUBLISH
X-WR-CALNAME:Town of Trafalgar, Indiana
X-ORIGINAL-URL:https://townoftrafalgar.org
X-WR-CALDESC:Events for Town of Trafalgar, Indiana
REFRESH-INTERVAL;VALUE=DURATION:PT1H
X-Robots-Tag:noindex
X-PUBLISHED-TTL:PT1H
BEGIN:VTIMEZONE
TZID:America/Indiana/Indianapolis
BEGIN:DAYLIGHT
TZOFFSETFROM:-0500
TZOFFSETTO:-0400
TZNAME:EDT
DTSTART:20240310T070000
END:DAYLIGHT
BEGIN:STANDARD
TZOFFSETFROM:-0400
TZOFFSETTO:-0500
TZNAME:EST
DTSTART:20241103T060000
END:STANDARD
BEGIN:DAYLIGHT
TZOFFSETFROM:-0500
TZOFFSETTO:-0400
TZNAME:EDT
DTSTART:20250309T070000
END:DAYLIGHT
BEGIN:STANDARD
TZOFFSETFROM:-0400
TZOFFSETTO:-0500
TZNAME:EST
DTSTART:20251102T060000
END:STANDARD
BEGIN:DAYLIGHT
TZOFFSETFROM:-0500
TZOFFSETTO:-0400
TZNAME:EDT
DTSTART:20260308T070000
END:DAYLIGHT
BEGIN:STANDARD
TZOFFSETFROM:-0400
TZOFFSETTO:-0500
TZNAME:EST
DTSTART:20261101T060000
END:STANDARD
END:VTIMEZONE
BEGIN:VEVENT
DTSTART;TZID=America/Indiana/Indianapolis:20251218T180000
DTEND;TZID=America/Indiana/Indianapolis:20251218T190000
DTSTAMP:20260423T135421
CREATED:20250905T172500Z
LAST-MODIFIED:20250905T172500Z
UID:10000004-1766080800-1766084400@townoftrafalgar.org
SUMMARY:Town Council Meeting
DESCRIPTION:
URL:https://townoftrafalgar.org/event/town-council-meeting-3/
LOCATION:Trafalgar Town Hall\, 2770 IN-252\, Trafalgar\, IN\, 46181\, United States
END:VEVENT
BEGIN:VEVENT
DTSTART;TZID=America/Indiana/Indianapolis:20251208T180000
DTEND;TZID=America/Indiana/Indianapolis:20251208T190000
DTSTAMP:20260423T135421
CREATED:20250905T172710Z
LAST-MODIFIED:20250924T151050Z
UID:10000008-1765216800-1765220400@townoftrafalgar.org
SUMMARY:Planning Commission Meeting
DESCRIPTION:
URL:https://townoftrafalgar.org/event/planning-commission-meeting-4/
LOCATION:Trafalgar Town Hall\, 2770 IN-252\, Trafalgar\, IN\, 46181\, United States
CATEGORIES:Planning Commission Meeting
END:VEVENT
BEGIN:VEVENT
DTSTART;VALUE=DATE:20251128
DTEND;VALUE=DATE:20251129
DTSTAMP:20260423T135421
CREATED:20250924T152015Z
LAST-MODIFIED:20250924T152015Z
UID:10000010-1764288000-1764374399@townoftrafalgar.org
SUMMARY:Day After Thanksgiving (Friday after Thanksgiving)
DESCRIPTION:🦃 Thanksgiving Holiday ScheduleIn observance of the Thanksgiving holiday\, Town offices and departments will be closed today. We hope everyone enjoys the extended holiday weekend safely and responsibly.
URL:https://townoftrafalgar.org/event/day-after-thanksgiving-friday-after-thanksgiving/
LOCATION:IN
END:VEVENT
BEGIN:VEVENT
DTSTART;VALUE=DATE:20251127
DTEND;VALUE=DATE:20251128
DTSTAMP:20260423T135421
CREATED:20250924T151923Z
LAST-MODIFIED:20250924T151923Z
UID:10000009-1764201600-1764287999@townoftrafalgar.org
SUMMARY:Thanksgiving
DESCRIPTION:🍂 Happy Thanksgiving!The Town Council designates the operating schedule for all departments and offices. Please note that Town offices and departments are closed today in observance of Thanksgiving Day. We wish you a safe and joyful holiday!
URL:https://townoftrafalgar.org/event/thanksgiving/
LOCATION:IN
END:VEVENT
BEGIN:VEVENT
DTSTART;TZID=America/Indiana/Indianapolis:20251120T180000
DTEND;TZID=America/Indiana/Indianapolis:20251120T190000
DTSTAMP:20260423T135421
CREATED:20250905T172431Z
LAST-MODIFIED:20250924T151032Z
UID:10000003-1763661600-1763665200@townoftrafalgar.org
SUMMARY:Town Council Meeting
DESCRIPTION:
URL:https://townoftrafalgar.org/event/town-council-meeting-2/
LOCATION:Trafalgar Town Hall\, 2770 IN-252\, Trafalgar\, IN\, 46181\, United States
CATEGORIES:Town Council Meeting
END:VEVENT
BEGIN:VEVENT
DTSTART;TZID=America/Indiana/Indianapolis:20251110T180000
DTEND;TZID=America/Indiana/Indianapolis:20251110T190000
DTSTAMP:20260423T135421
CREATED:20250905T172642Z
LAST-MODIFIED:20250924T151016Z
UID:10000007-1762797600-1762801200@townoftrafalgar.org
SUMMARY:Planning Commission Meeting
DESCRIPTION:
URL:https://townoftrafalgar.org/event/planning-commission-meeting-3/
LOCATION:Trafalgar Town Hall\, 2770 IN-252\, Trafalgar\, IN\, 46181\, United States
CATEGORIES:Planning Commission Meeting
END:VEVENT
BEGIN:VEVENT
DTSTART;TZID=America/Indiana/Indianapolis:20251023T163000
DTEND;TZID=America/Indiana/Indianapolis:20251023T193000
DTSTAMP:20260423T135421
CREATED:20250924T164554Z
LAST-MODIFIED:20250924T164554Z
UID:10000016-1761237000-1761247800@townoftrafalgar.org
SUMMARY:Trafalgar Farmers Market
DESCRIPTION:The Trafalgar Farmers Market is held at the Trafalgar Community Building on the 2nd & 4th Thursdays of the month from June – October
URL:https://townoftrafalgar.org/event/trafalgar-farmers-market-october-23-2025/
LOCATION:Community Building\, 335 S Pleasant St\,\, Trafalgar\, IN\, 46181\, United States
CATEGORIES:Farmers Market
ORGANIZER;CN="Trafalgar Farmers Market":MAILTO:trafalgarfarmersmarket@gmail.com
END:VEVENT
BEGIN:VEVENT
DTSTART;TZID=America/Indiana/Indianapolis:20251016T180000
DTEND;TZID=America/Indiana/Indianapolis:20251016T190000
DTSTAMP:20260423T135421
CREATED:20250905T172351Z
LAST-MODIFIED:20250924T150955Z
UID:10000002-1760637600-1760641200@townoftrafalgar.org
SUMMARY:Trafalgar Town Council Meeting
DESCRIPTION:
URL:https://townoftrafalgar.org/event/trafalgar-town-council-meeting/
LOCATION:Trafalgar Town Hall\, 2770 IN-252\, Trafalgar\, IN\, 46181\, United States
CATEGORIES:Town Council Meeting
END:VEVENT
BEGIN:VEVENT
DTSTART;TZID=America/Indiana/Indianapolis:20251009T163000
DTEND;TZID=America/Indiana/Indianapolis:20251009T193000
DTSTAMP:20260423T135421
CREATED:20250924T164519Z
LAST-MODIFIED:20250924T164519Z
UID:10000015-1760027400-1760038200@townoftrafalgar.org
SUMMARY:Trafalgar Farmers Market
DESCRIPTION:The Trafalgar Farmers Market is held at the Trafalgar Community Building on the 2nd & 4th Thursdays of the month from June – October
URL:https://townoftrafalgar.org/event/trafalgar-farmers-market-october-9-2025/
LOCATION:Community Building\, 335 S Pleasant St\,\, Trafalgar\, IN\, 46181\, United States
CATEGORIES:Farmers Market
ORGANIZER;CN="Trafalgar Farmers Market":MAILTO:trafalgarfarmersmarket@gmail.com
END:VEVENT
BEGIN:VEVENT
DTSTART;TZID=America/Indiana/Indianapolis:20251006T180000
DTEND;TZID=America/Indiana/Indianapolis:20251006T190000
DTSTAMP:20260423T135421
CREATED:20250905T172613Z
LAST-MODIFIED:20250924T150934Z
UID:10000006-1759773600-1759777200@townoftrafalgar.org
SUMMARY:Planning Commission Meeting
DESCRIPTION:
URL:https://townoftrafalgar.org/event/planning-commission-meeting-2/
LOCATION:Trafalgar Town Hall\, 2770 IN-252\, Trafalgar\, IN\, 46181\, United States
CATEGORIES:Planning Commission Meeting
END:VEVENT
BEGIN:VEVENT
DTSTART;TZID=America/Indiana/Indianapolis:20250925T163000
DTEND;TZID=America/Indiana/Indianapolis:20250925T193000
DTSTAMP:20260423T135421
CREATED:20250924T164417Z
LAST-MODIFIED:20250924T164417Z
UID:10000014-1758817800-1758828600@townoftrafalgar.org
SUMMARY:Trafalgar Farmers Market
DESCRIPTION:The Trafalgar Farmers Market is held at the Trafalgar Community Building on the 2nd & 4th Thursdays of the month from June – October
URL:https://townoftrafalgar.org/event/trafalgar-farmers-market/
LOCATION:Community Building\, 335 S Pleasant St\,\, Trafalgar\, IN\, 46181\, United States
CATEGORIES:Farmers Market
ORGANIZER;CN="Trafalgar Farmers Market":MAILTO:trafalgarfarmersmarket@gmail.com
END:VEVENT
BEGIN:VEVENT
DTSTART;TZID=America/Indiana/Indianapolis:20250918T180000
DTEND;TZID=America/Indiana/Indianapolis:20250918T190000
DTSTAMP:20260423T135421
CREATED:20250905T172306Z
LAST-MODIFIED:20250924T150908Z
UID:10000001-1758218400-1758222000@townoftrafalgar.org
SUMMARY:Town Council Meeting
DESCRIPTION:
URL:https://townoftrafalgar.org/event/town-council-meeting/
LOCATION:Trafalgar Town Hall\, 2770 IN-252\, Trafalgar\, IN\, 46181\, United States
CATEGORIES:Town Council Meeting
END:VEVENT
BEGIN:VEVENT
DTSTART;TZID=America/Indiana/Indianapolis:20250908T180000
DTEND;TZID=America/Indiana/Indianapolis:20250908T190000
DTSTAMP:20260423T135421
CREATED:20250905T172535Z
LAST-MODIFIED:20250924T150842Z
UID:10000005-1757354400-1757358000@townoftrafalgar.org
SUMMARY:Planning Commission Meeting
DESCRIPTION:
URL:https://townoftrafalgar.org/event/planning-commission-meeting/
LOCATION:IN
CATEGORIES:Planning Commission Meeting
END:VEVENT
END:VCALENDAR