BEGIN:VCALENDAR
VERSION:2.0
PRODID:-//Town of Trafalgar, Indiana - ECPv6.15.20//NONSGML v1.0//EN
CALSCALE:GREGORIAN
METHOD:PUBLISH
X-WR-CALNAME:Town of Trafalgar, Indiana
X-ORIGINAL-URL:https://townoftrafalgar.org
X-WR-CALDESC:Events for Town of Trafalgar, Indiana
REFRESH-INTERVAL;VALUE=DURATION:PT1H
X-Robots-Tag:noindex
X-PUBLISHED-TTL:PT1H
BEGIN:VTIMEZONE
TZID:America/Indiana/Indianapolis
BEGIN:DAYLIGHT
TZOFFSETFROM:-0500
TZOFFSETTO:-0400
TZNAME:EDT
DTSTART:20240310T070000
END:DAYLIGHT
BEGIN:STANDARD
TZOFFSETFROM:-0400
TZOFFSETTO:-0500
TZNAME:EST
DTSTART:20241103T060000
END:STANDARD
BEGIN:DAYLIGHT
TZOFFSETFROM:-0500
TZOFFSETTO:-0400
TZNAME:EDT
DTSTART:20250309T070000
END:DAYLIGHT
BEGIN:STANDARD
TZOFFSETFROM:-0400
TZOFFSETTO:-0500
TZNAME:EST
DTSTART:20251102T060000
END:STANDARD
BEGIN:DAYLIGHT
TZOFFSETFROM:-0500
TZOFFSETTO:-0400
TZNAME:EDT
DTSTART:20260308T070000
END:DAYLIGHT
BEGIN:STANDARD
TZOFFSETFROM:-0400
TZOFFSETTO:-0500
TZNAME:EST
DTSTART:20261101T060000
END:STANDARD
BEGIN:DAYLIGHT
TZOFFSETFROM:-0500
TZOFFSETTO:-0400
TZNAME:EDT
DTSTART:20270314T070000
END:DAYLIGHT
BEGIN:STANDARD
TZOFFSETFROM:-0400
TZOFFSETTO:-0500
TZNAME:EST
DTSTART:20271107T060000
END:STANDARD
END:VTIMEZONE
BEGIN:VEVENT
DTSTART;TZID=America/Indiana/Indianapolis:20261019T140000
DTEND;TZID=America/Indiana/Indianapolis:20261019T150000
DTSTAMP:20260423T213417
CREATED:20260112T214511Z
LAST-MODIFIED:20260112T214511Z
UID:10000044-1792418400-1792422000@townoftrafalgar.org
SUMMARY:Trafalgar Area Chamber of Commerce Meeting
DESCRIPTION:Join us Monday\, October 19th from 2-3 PM at the Trafalgar Community Building
URL:https://townoftrafalgar.org/event/trafalgar-area-chamber-of-commerce-meeting-october-19-2026/
LOCATION:Community Building\, 335 S Pleasant St\,\, Trafalgar\, IN\, 46181\, United States
CATEGORIES:Trafalgar Area Chamber of Commerce
ORGANIZER;CN="Trafalgar Area Chamber of Commerce":MAILTO:contact@trafalgaracoc.org
END:VEVENT
BEGIN:VEVENT
DTSTART;TZID=America/Indiana/Indianapolis:20261015T180000
DTEND;TZID=America/Indiana/Indianapolis:20261015T190000
DTSTAMP:20260423T213417
CREATED:20260106T153900Z
LAST-MODIFIED:20260106T153900Z
UID:10000026-1792087200-1792090800@townoftrafalgar.org
SUMMARY:Town Council Meeting
DESCRIPTION:Agendas and Meeting Minutes are linked here.  \nStream our meetings on our YouTube Channel linked here!
URL:https://townoftrafalgar.org/event/town-council-meeting-oct-15-2026/
LOCATION:Trafalgar Town Hall\, 2770 IN-252\, Trafalgar\, IN\, 46181\, United States
CATEGORIES:Town Council Meeting
END:VEVENT
BEGIN:VEVENT
DTSTART;TZID=America/Indiana/Indianapolis:20261012T180000
DTEND;TZID=America/Indiana/Indianapolis:20261012T190000
DTSTAMP:20260423T213417
CREATED:20260106T155158Z
LAST-MODIFIED:20260106T155158Z
UID:10000038-1791828000-1791831600@townoftrafalgar.org
SUMMARY:Planning Commission Meeting
DESCRIPTION:Agendas and Meeting Minutes are linked here.  \nStream our meetings on our YouTube Channel linked here!
URL:https://townoftrafalgar.org/event/planning-commission-meeting-oct-12-2026/
LOCATION:Trafalgar Town Hall\, 2770 IN-252\, Trafalgar\, IN\, 46181\, United States
CATEGORIES:Planning Commission Meeting
END:VEVENT
BEGIN:VEVENT
DTSTART;TZID=America/Indiana/Indianapolis:20260917T180000
DTEND;TZID=America/Indiana/Indianapolis:20260917T190000
DTSTAMP:20260423T213417
CREATED:20260106T153137Z
LAST-MODIFIED:20260106T153754Z
UID:10000025-1789668000-1789671600@townoftrafalgar.org
SUMMARY:Town Council Meeting
DESCRIPTION:Agendas and Meeting Minutes are linked here.  \nStream our meetings on our YouTube Channel linked here!
URL:https://townoftrafalgar.org/event/town-council-meeting-sep-17-2026/
LOCATION:Trafalgar Town Hall\, 2770 IN-252\, Trafalgar\, IN\, 46181\, United States
CATEGORIES:Town Council Meeting
END:VEVENT
BEGIN:VEVENT
DTSTART;TZID=America/Indiana/Indianapolis:20260914T180000
DTEND;TZID=America/Indiana/Indianapolis:20260914T190000
DTSTAMP:20260423T213417
CREATED:20260106T155111Z
LAST-MODIFIED:20260106T155111Z
UID:10000037-1789408800-1789412400@townoftrafalgar.org
SUMMARY:Planning Commission Meeting
DESCRIPTION:Agendas and Meeting Minutes are linked here.  \nStream our meetings on our YouTube Channel linked here!
URL:https://townoftrafalgar.org/event/planning-commission-meeting-sep-14-2026/
LOCATION:Trafalgar Town Hall\, 2770 IN-252\, Trafalgar\, IN\, 46181\, United States
CATEGORIES:Planning Commission Meeting
END:VEVENT
BEGIN:VEVENT
DTSTART;TZID=America/Indiana/Indianapolis:20260820T180000
DTEND;TZID=America/Indiana/Indianapolis:20260820T190000
DTSTAMP:20260423T213417
CREATED:20260106T144356Z
LAST-MODIFIED:20260106T144356Z
UID:10000024-1787248800-1787252400@townoftrafalgar.org
SUMMARY:Town Council Meeting
DESCRIPTION:Agendas and Meeting Minutes are linked here.  \nStream our meetings on our YouTube Channel linked here!
URL:https://townoftrafalgar.org/event/town-council-meeting-august-20-2026/
LOCATION:Trafalgar Town Hall\, 2770 IN-252\, Trafalgar\, IN\, 46181\, United States
CATEGORIES:Town Council Meeting
END:VEVENT
BEGIN:VEVENT
DTSTART;TZID=America/Indiana/Indianapolis:20260810T180000
DTEND;TZID=America/Indiana/Indianapolis:20260810T190000
DTSTAMP:20260423T213417
CREATED:20260106T155022Z
LAST-MODIFIED:20260106T155022Z
UID:10000036-1786384800-1786388400@townoftrafalgar.org
SUMMARY:Planning Commission Meeting
DESCRIPTION:Agendas and Meeting Minutes are linked here.  \nStream our meetings on our YouTube Channel linked here!
URL:https://townoftrafalgar.org/event/planning-commission-meeting-aug-10-2026/
LOCATION:Trafalgar Town Hall\, 2770 IN-252\, Trafalgar\, IN\, 46181\, United States
CATEGORIES:Planning Commission Meeting
END:VEVENT
BEGIN:VEVENT
DTSTART;TZID=America/Indiana/Indianapolis:20260810T140000
DTEND;TZID=America/Indiana/Indianapolis:20260810T150000
DTSTAMP:20260423T213417
CREATED:20260112T214350Z
LAST-MODIFIED:20260112T214350Z
UID:10000043-1786370400-1786374000@townoftrafalgar.org
SUMMARY:Trafalgar Area Chamber of Commerce Meeting
DESCRIPTION:Join us Monday\, August 10th from 2-3 PM at the Trafalgar Community Building
URL:https://townoftrafalgar.org/event/trafalgar-area-chamber-of-commerce-meeting-august-10-2026/
LOCATION:Community Building\, 335 S Pleasant St\,\, Trafalgar\, IN\, 46181\, United States
CATEGORIES:Trafalgar Area Chamber of Commerce
ORGANIZER;CN="Trafalgar Area Chamber of Commerce":MAILTO:contact@trafalgaracoc.org
END:VEVENT
BEGIN:VEVENT
DTSTART;TZID=America/Indiana/Indianapolis:20260716T180000
DTEND;TZID=America/Indiana/Indianapolis:20260716T190000
DTSTAMP:20260423T213417
CREATED:20260106T143939Z
LAST-MODIFIED:20260106T143939Z
UID:10000023-1784224800-1784228400@townoftrafalgar.org
SUMMARY:Town Council Meeting
DESCRIPTION:Agendas and Meeting Minutes are linked here.  \nStream our meetings on our YouTube Channel linked here!
URL:https://townoftrafalgar.org/event/town-council-meeting-jul-16-2026/
LOCATION:Trafalgar Town Hall\, 2770 IN-252\, Trafalgar\, IN\, 46181\, United States
CATEGORIES:Town Council Meeting
END:VEVENT
BEGIN:VEVENT
DTSTART;TZID=America/Indiana/Indianapolis:20260713T180000
DTEND;TZID=America/Indiana/Indianapolis:20260713T190000
DTSTAMP:20260423T213417
CREATED:20260106T154936Z
LAST-MODIFIED:20260106T154936Z
UID:10000035-1783965600-1783969200@townoftrafalgar.org
SUMMARY:Planning Commission Meeting
DESCRIPTION:Agendas and Meeting Minutes are linked here.  \nStream our meetings on our YouTube Channel linked here!
URL:https://townoftrafalgar.org/event/planning-commission-meeting-july-13-2026/
LOCATION:Trafalgar Town Hall\, 2770 IN-252\, Trafalgar\, IN\, 46181\, United States
CATEGORIES:Planning Commission Meeting
END:VEVENT
BEGIN:VEVENT
DTSTART;TZID=America/Indiana/Indianapolis:20260618T180000
DTEND;TZID=America/Indiana/Indianapolis:20260618T190000
DTSTAMP:20260423T213417
CREATED:20260106T143616Z
LAST-MODIFIED:20260106T143616Z
UID:10000022-1781805600-1781809200@townoftrafalgar.org
SUMMARY:Town Council Meeting
DESCRIPTION:Agendas and Meeting Minutes are linked here.  \nStream our meetings on our YouTube Channel linked here!
URL:https://townoftrafalgar.org/event/town-council-meeting-june-18-2026/
LOCATION:Trafalgar Town Hall\, 2770 IN-252\, Trafalgar\, IN\, 46181\, United States
CATEGORIES:Town Council Meeting
END:VEVENT
BEGIN:VEVENT
DTSTART;TZID=America/Indiana/Indianapolis:20260608T180000
DTEND;TZID=America/Indiana/Indianapolis:20260608T190000
DTSTAMP:20260423T213417
CREATED:20260106T154816Z
LAST-MODIFIED:20260106T154816Z
UID:10000034-1780941600-1780945200@townoftrafalgar.org
SUMMARY:Planning Commission Meeting
DESCRIPTION:Agendas and Meeting Minutes are linked here.  \nStream our meetings on our YouTube Channel linked here!
URL:https://townoftrafalgar.org/event/planning-commission-meeting-jun-8-2026/
LOCATION:Trafalgar Town Hall\, 2770 IN-252\, Trafalgar\, IN\, 46181\, United States
CATEGORIES:Planning Commission Meeting
END:VEVENT
BEGIN:VEVENT
DTSTART;TZID=America/Indiana/Indianapolis:20260521T180000
DTEND;TZID=America/Indiana/Indianapolis:20260521T190000
DTSTAMP:20260423T213417
CREATED:20260106T143506Z
LAST-MODIFIED:20260106T143506Z
UID:10000021-1779386400-1779390000@townoftrafalgar.org
SUMMARY:Town Council Meeting
DESCRIPTION:Agendas and Meeting Minutes are linked here.  \nStream our meetings on our YouTube Channel linked here!
URL:https://townoftrafalgar.org/event/town-council-meeting-may-21-2026/
LOCATION:Trafalgar Town Hall\, 2770 IN-252\, Trafalgar\, IN\, 46181\, United States
CATEGORIES:Town Council Meeting
END:VEVENT
BEGIN:VEVENT
DTSTART;TZID=America/Indiana/Indianapolis:20260511T180000
DTEND;TZID=America/Indiana/Indianapolis:20260511T190000
DTSTAMP:20260423T213417
CREATED:20260106T154725Z
LAST-MODIFIED:20260106T154725Z
UID:10000033-1778522400-1778526000@townoftrafalgar.org
SUMMARY:Planning Commission Meeting
DESCRIPTION:Agendas and Meeting Minutes are linked here.  \nStream our meetings on our YouTube Channel linked here!
URL:https://townoftrafalgar.org/event/planning-commission-meeting-may-11-2026/
LOCATION:Trafalgar Town Hall\, 2770 IN-252\, Trafalgar\, IN\, 46181\, United States
CATEGORIES:Planning Commission Meeting
END:VEVENT
BEGIN:VEVENT
DTSTART;TZID=America/Indiana/Indianapolis:20260511T140000
DTEND;TZID=America/Indiana/Indianapolis:20260511T150000
DTSTAMP:20260423T213417
CREATED:20260112T214222Z
LAST-MODIFIED:20260112T214222Z
UID:10000042-1778508000-1778511600@townoftrafalgar.org
SUMMARY:Trafalgar Area Chamber of Commerce Meeting
DESCRIPTION:Join us Monday\, May 11\, from 2-3 PM at the Trafalgar Community Building
URL:https://townoftrafalgar.org/event/trafalgar-area-chamber-of-commerce-meeting-may-11-2026/
LOCATION:Community Building\, 335 S Pleasant St\,\, Trafalgar\, IN\, 46181\, United States
CATEGORIES:Trafalgar Area Chamber of Commerce
ORGANIZER;CN="Trafalgar Area Chamber of Commerce":MAILTO:contact@trafalgaracoc.org
END:VEVENT
BEGIN:VEVENT
DTSTART;TZID=America/Indiana/Indianapolis:20260416T180000
DTEND;TZID=America/Indiana/Indianapolis:20260416T190000
DTSTAMP:20260423T213417
CREATED:20260106T143255Z
LAST-MODIFIED:20260106T143409Z
UID:10000020-1776362400-1776366000@townoftrafalgar.org
SUMMARY:Town Council Meeting
DESCRIPTION:Agendas and Meeting Minutes are linked here.  \nStream our meetings on our YouTube Channel linked here!
URL:https://townoftrafalgar.org/event/town-council-meeting-april-16-2026/
LOCATION:Trafalgar Town Hall\, 2770 IN-252\, Trafalgar\, IN\, 46181\, United States
CATEGORIES:Town Council Meeting
END:VEVENT
BEGIN:VEVENT
DTSTART;TZID=America/Indiana/Indianapolis:20260413T180000
DTEND;TZID=America/Indiana/Indianapolis:20260413T190000
DTSTAMP:20260423T213417
CREATED:20260106T154641Z
LAST-MODIFIED:20260106T154641Z
UID:10000032-1776103200-1776106800@townoftrafalgar.org
SUMMARY:Planning Commission Meeting
DESCRIPTION:Agendas and Meeting Minutes are linked here.  \nStream our meetings on our YouTube Channel linked here!
URL:https://townoftrafalgar.org/event/planning-commission-meeting-apr-13-2026/
LOCATION:Trafalgar Town Hall\, 2770 IN-252\, Trafalgar\, IN\, 46181\, United States
CATEGORIES:Planning Commission Meeting
END:VEVENT
BEGIN:VEVENT
DTSTART;TZID=America/Indiana/Indianapolis:20260319T180000
DTEND;TZID=America/Indiana/Indianapolis:20260319T190000
DTSTAMP:20260423T213417
CREATED:20260106T143132Z
LAST-MODIFIED:20260106T143132Z
UID:10000019-1773943200-1773946800@townoftrafalgar.org
SUMMARY:Town Council Meeting
DESCRIPTION:
URL:https://townoftrafalgar.org/event/town-council-meeting-5/
LOCATION:Trafalgar Town Hall\, 2770 IN-252\, Trafalgar\, IN\, 46181\, United States
CATEGORIES:Town Council Meeting
END:VEVENT
BEGIN:VEVENT
DTSTART;TZID=America/Indiana/Indianapolis:20260309T180000
DTEND;TZID=America/Indiana/Indianapolis:20260309T190000
DTSTAMP:20260423T213417
CREATED:20260106T154548Z
LAST-MODIFIED:20260106T154548Z
UID:10000031-1773079200-1773082800@townoftrafalgar.org
SUMMARY:Planning Commission Meeting
DESCRIPTION:Agendas and Meeting Minutes are linked here.  \nStream our meetings on our YouTube Channel linked here!
URL:https://townoftrafalgar.org/event/planning-commission-meeting-mar-9-2026/
LOCATION:Trafalgar Town Hall\, 2770 IN-252\, Trafalgar\, IN\, 46181\, United States
CATEGORIES:Planning Commission Meeting
END:VEVENT
BEGIN:VEVENT
DTSTART;TZID=America/Indiana/Indianapolis:20260309T140000
DTEND;TZID=America/Indiana/Indianapolis:20260309T150000
DTSTAMP:20260423T213417
CREATED:20260112T214055Z
LAST-MODIFIED:20260112T214055Z
UID:10000041-1773064800-1773068400@townoftrafalgar.org
SUMMARY:Trafalgar Area Chamber of Commerce Meeting
DESCRIPTION:Join us Monday\, March 9th from 2-3 PM at the Trafalgar Community Building
URL:https://townoftrafalgar.org/event/trafalgar-area-chamber-of-commerce-meeting-march-9-2026/
LOCATION:Community Building\, 335 S Pleasant St\,\, Trafalgar\, IN\, 46181\, United States
CATEGORIES:Trafalgar Area Chamber of Commerce
ORGANIZER;CN="Trafalgar Area Chamber of Commerce":MAILTO:contact@trafalgaracoc.org
END:VEVENT
BEGIN:VEVENT
DTSTART;TZID=America/Indiana/Indianapolis:20260219T180000
DTEND;TZID=America/Indiana/Indianapolis:20260219T190000
DTSTAMP:20260423T213417
CREATED:20260106T143051Z
LAST-MODIFIED:20260106T143051Z
UID:10000018-1771524000-1771527600@townoftrafalgar.org
SUMMARY:Town Council Meeting
DESCRIPTION:
URL:https://townoftrafalgar.org/event/town-council-meeting-4/
LOCATION:Trafalgar Town Hall\, 2770 IN-252\, Trafalgar\, IN\, 46181\, United States
CATEGORIES:Town Council Meeting
END:VEVENT
BEGIN:VEVENT
DTSTART;TZID=America/Indiana/Indianapolis:20260209T180000
DTEND;TZID=America/Indiana/Indianapolis:20260209T190000
DTSTAMP:20260423T213417
CREATED:20260106T154502Z
LAST-MODIFIED:20260106T154502Z
UID:10000030-1770660000-1770663600@townoftrafalgar.org
SUMMARY:Planning Commission Meeting
DESCRIPTION:Agendas and Meeting Minutes are linked here.  \nStream our meetings on our YouTube Channel linked here!
URL:https://townoftrafalgar.org/event/planning-commission-meeting-feb-9-2026/
LOCATION:Trafalgar Town Hall\, 2770 IN-252\, Trafalgar\, IN\, 46181\, United States
CATEGORIES:Planning Commission Meeting
END:VEVENT
BEGIN:VEVENT
DTSTART;TZID=America/Indiana/Indianapolis:20260115T180000
DTEND;TZID=America/Indiana/Indianapolis:20260115T190000
DTSTAMP:20260423T213417
CREATED:20260106T142945Z
LAST-MODIFIED:20260106T143001Z
UID:10000017-1768500000-1768503600@townoftrafalgar.org
SUMMARY:Town Council Meeting
DESCRIPTION:
URL:https://townoftrafalgar.org/event/town-council-meeting-jan-15-2026/
LOCATION:Trafalgar Town Hall\, 2770 IN-252\, Trafalgar\, IN\, 46181\, United States
CATEGORIES:Town Council Meeting
END:VEVENT
BEGIN:VEVENT
DTSTART;TZID=America/Indiana/Indianapolis:20260112T180000
DTEND;TZID=America/Indiana/Indianapolis:20260112T190000
DTSTAMP:20260423T213417
CREATED:20260106T154302Z
LAST-MODIFIED:20260106T154302Z
UID:10000029-1768240800-1768244400@townoftrafalgar.org
SUMMARY:Planning Commission Meeting
DESCRIPTION:Agendas and Meeting Minutes are linked here.  \nStream our meetings on our YouTube Channel linked here!
URL:https://townoftrafalgar.org/event/planning-commission-meeting-jan-12-26/
LOCATION:Trafalgar Town Hall\, 2770 IN-252\, Trafalgar\, IN\, 46181\, United States
CATEGORIES:Planning Commission Meeting
END:VEVENT
BEGIN:VEVENT
DTSTART;VALUE=DATE:20251231
DTEND;VALUE=DATE:20260101
DTSTAMP:20260423T213417
CREATED:20250924T152139Z
LAST-MODIFIED:20250924T152139Z
UID:10000013-1767139200-1767225599@townoftrafalgar.org
SUMMARY:New Year’s Eve Day
DESCRIPTION:🎆 New Year’s Eve ScheduleTown offices and departments will be closed today in observance of New Year’s Eve. We wish everyone a safe and happy start to the New Year!
URL:https://townoftrafalgar.org/event/new-years-eve-day/
LOCATION:IN
END:VEVENT
BEGIN:VEVENT
DTSTART;VALUE=DATE:20251225
DTEND;VALUE=DATE:20251226
DTSTAMP:20260423T213417
CREATED:20250924T152116Z
LAST-MODIFIED:20250924T152116Z
UID:10000012-1766620800-1766707199@townoftrafalgar.org
SUMMARY:Christmas Day
DESCRIPTION:🎅 Merry Christmas!Town offices and departments will be closed today in observance of Christmas Day. The Town Council wishes you a joyful and safe holiday!
URL:https://townoftrafalgar.org/event/christmas-day/
LOCATION:IN
END:VEVENT
BEGIN:VEVENT
DTSTART;VALUE=DATE:20251224
DTEND;VALUE=DATE:20251225
DTSTAMP:20260423T213417
CREATED:20250924T152044Z
LAST-MODIFIED:20250924T152044Z
UID:10000011-1766534400-1766620799@townoftrafalgar.org
SUMMARY:Christmas Eve Day
DESCRIPTION:🎄 Christmas Eve Holiday ScheduleAll Town offices and departments will be closed today in observance of Christmas Eve. We wish everyone a safe and festive holiday season!
URL:https://townoftrafalgar.org/event/christmas-eve-day/
LOCATION:IN
END:VEVENT
BEGIN:VEVENT
DTSTART;TZID=America/Indiana/Indianapolis:20251218T180000
DTEND;TZID=America/Indiana/Indianapolis:20251218T190000
DTSTAMP:20260423T213417
CREATED:20250905T172500Z
LAST-MODIFIED:20250905T172500Z
UID:10000004-1766080800-1766084400@townoftrafalgar.org
SUMMARY:Town Council Meeting
DESCRIPTION:
URL:https://townoftrafalgar.org/event/town-council-meeting-3/
LOCATION:Trafalgar Town Hall\, 2770 IN-252\, Trafalgar\, IN\, 46181\, United States
END:VEVENT
BEGIN:VEVENT
DTSTART;TZID=America/Indiana/Indianapolis:20251208T180000
DTEND;TZID=America/Indiana/Indianapolis:20251208T190000
DTSTAMP:20260423T213417
CREATED:20250905T172710Z
LAST-MODIFIED:20250924T151050Z
UID:10000008-1765216800-1765220400@townoftrafalgar.org
SUMMARY:Planning Commission Meeting
DESCRIPTION:
URL:https://townoftrafalgar.org/event/planning-commission-meeting-4/
LOCATION:Trafalgar Town Hall\, 2770 IN-252\, Trafalgar\, IN\, 46181\, United States
CATEGORIES:Planning Commission Meeting
END:VEVENT
BEGIN:VEVENT
DTSTART;VALUE=DATE:20251128
DTEND;VALUE=DATE:20251129
DTSTAMP:20260423T213417
CREATED:20250924T152015Z
LAST-MODIFIED:20250924T152015Z
UID:10000010-1764288000-1764374399@townoftrafalgar.org
SUMMARY:Day After Thanksgiving (Friday after Thanksgiving)
DESCRIPTION:🦃 Thanksgiving Holiday ScheduleIn observance of the Thanksgiving holiday\, Town offices and departments will be closed today. We hope everyone enjoys the extended holiday weekend safely and responsibly.
URL:https://townoftrafalgar.org/event/day-after-thanksgiving-friday-after-thanksgiving/
LOCATION:IN
END:VEVENT
END:VCALENDAR