BEGIN:VCALENDAR
VERSION:2.0
PRODID:-//Town of Trafalgar, Indiana - ECPv6.15.20//NONSGML v1.0//EN
CALSCALE:GREGORIAN
METHOD:PUBLISH
X-ORIGINAL-URL:https://townoftrafalgar.org
X-WR-CALDESC:Events for Town of Trafalgar, Indiana
REFRESH-INTERVAL;VALUE=DURATION:PT1H
X-Robots-Tag:noindex
X-PUBLISHED-TTL:PT1H
BEGIN:VTIMEZONE
TZID:America/Indiana/Indianapolis
BEGIN:DAYLIGHT
TZOFFSETFROM:-0500
TZOFFSETTO:-0400
TZNAME:EDT
DTSTART:20250309T070000
END:DAYLIGHT
BEGIN:STANDARD
TZOFFSETFROM:-0400
TZOFFSETTO:-0500
TZNAME:EST
DTSTART:20251102T060000
END:STANDARD
BEGIN:DAYLIGHT
TZOFFSETFROM:-0500
TZOFFSETTO:-0400
TZNAME:EDT
DTSTART:20260308T070000
END:DAYLIGHT
BEGIN:STANDARD
TZOFFSETFROM:-0400
TZOFFSETTO:-0500
TZNAME:EST
DTSTART:20261101T060000
END:STANDARD
BEGIN:DAYLIGHT
TZOFFSETFROM:-0500
TZOFFSETTO:-0400
TZNAME:EDT
DTSTART:20270314T070000
END:DAYLIGHT
BEGIN:STANDARD
TZOFFSETFROM:-0400
TZOFFSETTO:-0500
TZNAME:EST
DTSTART:20271107T060000
END:STANDARD
END:VTIMEZONE
BEGIN:VEVENT
DTSTART;TZID=America/Indiana/Indianapolis:20260521T180000
DTEND;TZID=America/Indiana/Indianapolis:20260521T190000
DTSTAMP:20260424T174315
CREATED:20260106T143506Z
LAST-MODIFIED:20260106T143506Z
UID:10000021-1779386400-1779390000@townoftrafalgar.org
SUMMARY:Town Council Meeting
DESCRIPTION:Agendas and Meeting Minutes are linked here.  \nStream our meetings on our YouTube Channel linked here!
URL:https://townoftrafalgar.org/event/town-council-meeting-may-21-2026/
LOCATION:Trafalgar Town Hall\, 2770 IN-252\, Trafalgar\, IN\, 46181\, United States
CATEGORIES:Town Council Meeting
END:VEVENT
BEGIN:VEVENT
DTSTART;TZID=America/Indiana/Indianapolis:20260618T180000
DTEND;TZID=America/Indiana/Indianapolis:20260618T190000
DTSTAMP:20260424T174315
CREATED:20260106T143616Z
LAST-MODIFIED:20260106T143616Z
UID:10000022-1781805600-1781809200@townoftrafalgar.org
SUMMARY:Town Council Meeting
DESCRIPTION:Agendas and Meeting Minutes are linked here.  \nStream our meetings on our YouTube Channel linked here!
URL:https://townoftrafalgar.org/event/town-council-meeting-june-18-2026/
LOCATION:Trafalgar Town Hall\, 2770 IN-252\, Trafalgar\, IN\, 46181\, United States
CATEGORIES:Town Council Meeting
END:VEVENT
BEGIN:VEVENT
DTSTART;TZID=America/Indiana/Indianapolis:20260716T180000
DTEND;TZID=America/Indiana/Indianapolis:20260716T190000
DTSTAMP:20260424T174315
CREATED:20260106T143939Z
LAST-MODIFIED:20260106T143939Z
UID:10000023-1784224800-1784228400@townoftrafalgar.org
SUMMARY:Town Council Meeting
DESCRIPTION:Agendas and Meeting Minutes are linked here.  \nStream our meetings on our YouTube Channel linked here!
URL:https://townoftrafalgar.org/event/town-council-meeting-jul-16-2026/
LOCATION:Trafalgar Town Hall\, 2770 IN-252\, Trafalgar\, IN\, 46181\, United States
CATEGORIES:Town Council Meeting
END:VEVENT
BEGIN:VEVENT
DTSTART;TZID=America/Indiana/Indianapolis:20260820T180000
DTEND;TZID=America/Indiana/Indianapolis:20260820T190000
DTSTAMP:20260424T174315
CREATED:20260106T144356Z
LAST-MODIFIED:20260106T144356Z
UID:10000024-1787248800-1787252400@townoftrafalgar.org
SUMMARY:Town Council Meeting
DESCRIPTION:Agendas and Meeting Minutes are linked here.  \nStream our meetings on our YouTube Channel linked here!
URL:https://townoftrafalgar.org/event/town-council-meeting-august-20-2026/
LOCATION:Trafalgar Town Hall\, 2770 IN-252\, Trafalgar\, IN\, 46181\, United States
CATEGORIES:Town Council Meeting
END:VEVENT
BEGIN:VEVENT
DTSTART;TZID=America/Indiana/Indianapolis:20260917T180000
DTEND;TZID=America/Indiana/Indianapolis:20260917T190000
DTSTAMP:20260424T174315
CREATED:20260106T153137Z
LAST-MODIFIED:20260106T153754Z
UID:10000025-1789668000-1789671600@townoftrafalgar.org
SUMMARY:Town Council Meeting
DESCRIPTION:Agendas and Meeting Minutes are linked here.  \nStream our meetings on our YouTube Channel linked here!
URL:https://townoftrafalgar.org/event/town-council-meeting-sep-17-2026/
LOCATION:Trafalgar Town Hall\, 2770 IN-252\, Trafalgar\, IN\, 46181\, United States
CATEGORIES:Town Council Meeting
END:VEVENT
BEGIN:VEVENT
DTSTART;TZID=America/Indiana/Indianapolis:20261015T180000
DTEND;TZID=America/Indiana/Indianapolis:20261015T190000
DTSTAMP:20260424T174315
CREATED:20260106T153900Z
LAST-MODIFIED:20260106T153900Z
UID:10000026-1792087200-1792090800@townoftrafalgar.org
SUMMARY:Town Council Meeting
DESCRIPTION:Agendas and Meeting Minutes are linked here.  \nStream our meetings on our YouTube Channel linked here!
URL:https://townoftrafalgar.org/event/town-council-meeting-oct-15-2026/
LOCATION:Trafalgar Town Hall\, 2770 IN-252\, Trafalgar\, IN\, 46181\, United States
CATEGORIES:Town Council Meeting
END:VEVENT
BEGIN:VEVENT
DTSTART;TZID=America/Indiana/Indianapolis:20261119T180000
DTEND;TZID=America/Indiana/Indianapolis:20261119T190000
DTSTAMP:20260424T174315
CREATED:20260106T154001Z
LAST-MODIFIED:20260106T154001Z
UID:10000027-1795111200-1795114800@townoftrafalgar.org
SUMMARY:Town Council Meeting
DESCRIPTION:Agendas and Meeting Minutes are linked here.  \nStream our meetings on our YouTube Channel linked here!
URL:https://townoftrafalgar.org/event/town-council-meeting-nov-19-2026/
LOCATION:Trafalgar Town Hall\, 2770 IN-252\, Trafalgar\, IN\, 46181\, United States
CATEGORIES:Town Council Meeting
END:VEVENT
BEGIN:VEVENT
DTSTART;TZID=America/Indiana/Indianapolis:20261217T180000
DTEND;TZID=America/Indiana/Indianapolis:20261217T190000
DTSTAMP:20260424T174315
CREATED:20260106T154147Z
LAST-MODIFIED:20260106T154147Z
UID:10000028-1797530400-1797534000@townoftrafalgar.org
SUMMARY:Town Council Meeting
DESCRIPTION:Agendas and Meeting Minutes are linked here.  \nStream our meetings on our YouTube Channel linked here!
URL:https://townoftrafalgar.org/event/town-council-meeting-dec-17-2026/
LOCATION:Trafalgar Town Hall\, 2770 IN-252\, Trafalgar\, IN\, 46181\, United States
CATEGORIES:Town Council Meeting
END:VEVENT
END:VCALENDAR