BEGIN:VCALENDAR
VERSION:2.0
PRODID:-//Town of Trafalgar, Indiana - ECPv6.15.20//NONSGML v1.0//EN
CALSCALE:GREGORIAN
METHOD:PUBLISH
X-ORIGINAL-URL:https://townoftrafalgar.org
X-WR-CALDESC:Events for Town of Trafalgar, Indiana
REFRESH-INTERVAL;VALUE=DURATION:PT1H
X-Robots-Tag:noindex
X-PUBLISHED-TTL:PT1H
BEGIN:VTIMEZONE
TZID:America/Indiana/Indianapolis
BEGIN:DAYLIGHT
TZOFFSETFROM:-0500
TZOFFSETTO:-0400
TZNAME:EDT
DTSTART:20240310T070000
END:DAYLIGHT
BEGIN:STANDARD
TZOFFSETFROM:-0400
TZOFFSETTO:-0500
TZNAME:EST
DTSTART:20241103T060000
END:STANDARD
BEGIN:DAYLIGHT
TZOFFSETFROM:-0500
TZOFFSETTO:-0400
TZNAME:EDT
DTSTART:20250309T070000
END:DAYLIGHT
BEGIN:STANDARD
TZOFFSETFROM:-0400
TZOFFSETTO:-0500
TZNAME:EST
DTSTART:20251102T060000
END:STANDARD
BEGIN:DAYLIGHT
TZOFFSETFROM:-0500
TZOFFSETTO:-0400
TZNAME:EDT
DTSTART:20260308T070000
END:DAYLIGHT
BEGIN:STANDARD
TZOFFSETFROM:-0400
TZOFFSETTO:-0500
TZNAME:EST
DTSTART:20261101T060000
END:STANDARD
END:VTIMEZONE
BEGIN:VEVENT
DTSTART;TZID=America/Indiana/Indianapolis:20251208T180000
DTEND;TZID=America/Indiana/Indianapolis:20251208T190000
DTSTAMP:20260424T235310
CREATED:20250905T172710Z
LAST-MODIFIED:20250924T151050Z
UID:10000008-1765216800-1765220400@townoftrafalgar.org
SUMMARY:Planning Commission Meeting
DESCRIPTION:
URL:https://townoftrafalgar.org/event/planning-commission-meeting-4/
LOCATION:Trafalgar Town Hall\, 2770 IN-252\, Trafalgar\, IN\, 46181\, United States
CATEGORIES:Planning Commission Meeting
END:VEVENT
END:VCALENDAR